BEGIN:VCALENDAR
PRODID:-//eluceo/ical//2.0/EN
VERSION:2.0
CALSCALE:GREGORIAN
BEGIN:VEVENT
UID:30e91f9f-f1e1-45aa-bd52-8101fd71a88e
DTSTAMP:20260419T191426Z
SUMMARY:Monday 14th January\, 2026
DESCRIPTION:
DTSTART:20260419T130000
DTEND:20260419T190000
LOCATION:skate Steet
END:VEVENT
BEGIN:VTIMEZONE
TZID:Africa/Accra
BEGIN:STANDARD
DTSTART:20260419T130000
TZNAME:GMT
TZOFFSETTO:+0000
TZOFFSETFROM:+0000
END:STANDARD
END:VTIMEZONE
END:VCALENDAR
